BEGIN:VCALENDAR
VERSION:2.0
PRODID:-//First Church of Christ, Scientist - ECPv6.15.15//NONSGML v1.0//EN
CALSCALE:GREGORIAN
METHOD:PUBLISH
X-ORIGINAL-URL:https://csplacerville.com
X-WR-CALDESC:Events for First Church of Christ, Scientist
REFRESH-INTERVAL;VALUE=DURATION:PT1H
X-Robots-Tag:noindex
X-PUBLISHED-TTL:PT1H
BEGIN:VTIMEZONE
TZID:America/Los_Angeles
BEGIN:DAYLIGHT
TZOFFSETFROM:-0800
TZOFFSETTO:-0700
TZNAME:PDT
DTSTART:20230312T100000
END:DAYLIGHT
BEGIN:STANDARD
TZOFFSETFROM:-0700
TZOFFSETTO:-0800
TZNAME:PST
DTSTART:20231105T090000
END:STANDARD
BEGIN:DAYLIGHT
TZOFFSETFROM:-0800
TZOFFSETTO:-0700
TZNAME:PDT
DTSTART:20240310T100000
END:DAYLIGHT
BEGIN:STANDARD
TZOFFSETFROM:-0700
TZOFFSETTO:-0800
TZNAME:PST
DTSTART:20241103T090000
END:STANDARD
BEGIN:DAYLIGHT
TZOFFSETFROM:-0800
TZOFFSETTO:-0700
TZNAME:PDT
DTSTART:20250309T100000
END:DAYLIGHT
BEGIN:STANDARD
TZOFFSETFROM:-0700
TZOFFSETTO:-0800
TZNAME:PST
DTSTART:20251102T090000
END:STANDARD
END:VTIMEZONE
BEGIN:VEVENT
DTSTART;TZID=America/Los_Angeles:20240614T190000
DTEND;TZID=America/Los_Angeles:20240614T190000
DTSTAMP:20260424T014839
CREATED:20240524T210436Z
LAST-MODIFIED:20240524T210436Z
UID:1710-1718391600-1718391600@csplacerville.com
SUMMARY:Festival of Music
DESCRIPTION:Our church will host the annual Festival of Music at the Shakespeare Club. All are invited and encouraged to bring friends to this fun and inspiring event. See Music Festival flyer on our blog page.\n  \n  \n 
URL:https://csplacerville.com/event/festival-of-music/
LOCATION:Shakespeare Club\, 2940 Bedford Ave\, Placerville\, CA\, 95667\, United States
ORGANIZER;CN="First Church of Christ%2C Scientist":MAILTO:csplacerville@comcast.net
END:VEVENT
END:VCALENDAR